BEGIN:VCALENDAR
VERSION:2.0
PRODID:-//Intand Corporation//Tandem//EN
METHOD:PUBLISH
BEGIN:VEVENT
DTSTAMP:20260425T224202Z
DTSTART:20260505T220000Z
DTEND:20260505T233000Z
TRANSP:TRANSPARENT
PRIORITY:0
SUMMARY:Food Pantry
LOCATION:Glenfair Elementary School
DESCRIPTION:Schools:\nGlenfair Elementary School\n\nLocation:\nGlenfair El
 ementary School\n\n
URL;VALUE=URI:https://reynoldssd7.tandem.co/index.php?type=view&action=eve
 nt&id=7382056
CREATED:20260422T202042Z
LAST-MODIFIED:20260422T202042Z
UID:event-7382056-reynoldssd7@intand.com
END:VEVENT
END:VCALENDAR
