BEGIN:VCALENDAR
VERSION:2.0
PRODID:-//Intand Corporation//Tandem//EN
METHOD:PUBLISH
BEGIN:VEVENT
DTSTAMP:20260420T190829Z
DTSTART:20260409T160000Z
DTEND:20260409T200000Z
TRANSP:TRANSPARENT
PRIORITY:0
SUMMARY:8th Grade Forecasting
LOCATION:RHS-Ben Brooks Auditorium
DESCRIPTION:Groups:\nCounselors\n\nSchools:\nReynolds High School\n\nLocat
 ion:\nRHS-Ben Brooks Auditorium\n\n
URL;VALUE=URI:https://reynoldssd7.tandem.co/index.php?type=view&action=eve
 nt&id=7382005
CREATED:20260401T195602Z
LAST-MODIFIED:20260401T214742Z
UID:event_request-7382005-reynoldssd7@intand.com
END:VEVENT
END:VCALENDAR
