BEGIN:VCALENDAR
VERSION:2.0
PRODID:-//Intand Corporation//Tandem//EN
METHOD:PUBLISH
BEGIN:VEVENT
DTSTAMP:20260420T190911Z
DTSTART:20260403T190000Z
DTEND:20260403T230000Z
TRANSP:TRANSPARENT
PRIORITY:0
SUMMARY:Ethics Bowl
LOCATION:RHS-Black Box
DESCRIPTION:Reynolds High School Speech & Debate Ethics Bowl\n\n\nSchools:
 \nReynolds High School\n\nLocation:\nRHS-Black Box\n\n
URL;VALUE=URI:https://reynoldssd7.tandem.co/index.php?type=view&action=eve
 nt&id=7381975
CREATED:20260331T184614Z
LAST-MODIFIED:20260401T214742Z
UID:event_request-7381975-reynoldssd7@intand.com
END:VEVENT
END:VCALENDAR
