BEGIN:VCALENDAR
VERSION:2.0
PRODID:-//Intand Corporation//Tandem//EN
METHOD:PUBLISH
BEGIN:VEVENT
DTSTAMP:20260420T215628Z
DTSTART;VALUE=DATE:20260503
DTEND;VALUE=DATE:20260504
TRANSP:TRANSPARENT
PRIORITY:0
SUMMARY:Hoop SOurce
LOCATION:RHS-Gym Lobby\, RHS-Gym (East)\, RHS-Gym (Mat Room)\, RHS-Gym (Ma
 in)
DESCRIPTION:Schools:\nReynolds High School\n\nLocations:\nRHS-Gym Lobby\nR
 HS-Gym (East)\nRHS-Gym (Mat Room)\nRHS-Gym (Main)\n\n
URL;VALUE=URI:https://reynoldssd7.tandem.co/index.php?type=view&action=eve
 nt&id=7381939
CREATED:20260323T184702Z
LAST-MODIFIED:20260323T184702Z
UID:event-7381939-reynoldssd7@intand.com
END:VEVENT
END:VCALENDAR
