BEGIN:VCALENDAR
VERSION:2.0
PRODID:-//Intand Corporation//Tandem//EN
METHOD:PUBLISH
BEGIN:VEVENT
DTSTAMP:20260420T191327Z
DTSTART:20260329T160000Z
DTEND:20260330T010000Z
TRANSP:TRANSPARENT
PRIORITY:0
SUMMARY:AYCO
LOCATION:DAVIS-Classroom\, DAVIS-Gynasium\, DAVIS-Field\, Soccer\, DAVIS-C
 afeteria
DESCRIPTION:Sports Camp\n\n\nGroups:\nAfrican Youth & Community Organizati
 on\n\nSchools:\nDavis Elementary School\n\nLocations:\nDAVIS-Classroom\nDA
 VIS-Gynasium\nDAVIS-Field\, Soccer\nDAVIS-Cafeteria\n\n
URL;VALUE=URI:https://reynoldssd7.tandem.co/index.php?type=view&action=eve
 nt&id=7381734
CREATED:20260211T195036Z
LAST-MODIFIED:20260211T195138Z
UID:facility_rental-7381734-reynoldssd7@intand.com
END:VEVENT
END:VCALENDAR
