BEGIN:VCALENDAR
VERSION:2.0
PRODID:-//Intand Corporation//Tandem//EN
METHOD:PUBLISH
BEGIN:VEVENT
DTSTAMP:20260425T140611Z
DTSTART:20260507T183000Z
DTEND:20260507T230000Z
TRANSP:TRANSPARENT
PRIORITY:0
SUMMARY:AP Stats
LOCATION:RHS-Multi-Purpose Room (50)
DESCRIPTION:Schools:\nReynolds High School\n\nLocation:\nRHS-Multi-Purpose
  Room (50)\n\n
URL;VALUE=URI:https://reynoldssd7.tandem.co/index.php?type=view&action=eve
 nt&id=7379919
CREATED:20251023T144054Z
LAST-MODIFIED:20251023T144054Z
UID:event-7379919-reynoldssd7@intand.com
END:VEVENT
END:VCALENDAR
