BEGIN:VCALENDAR
VERSION:2.0
PRODID:-//Intand Corporation//Tandem//EN
METHOD:PUBLISH
BEGIN:VEVENT
DTSTAMP:20260425T153433Z
DTSTART:20260424T230000Z
DTEND:20260425T013000Z
TRANSP:TRANSPARENT
PRIORITY:0
SUMMARY:Midsummer Night's Dream Rehearsal
LOCATION:RHS-A-21
DESCRIPTION:Groups:\nTheatre\n\nSchools:\nReynolds High School\n\nLocation
 :\nRHS-A-21\n\n
URL;VALUE=URI:http://reynoldssd7.tandem.co/index.php?type=view&action=even
 t&id=7377686
CREATED:20250522T184151Z
LAST-MODIFIED:20260209T230411Z
UID:event_request-7377686-reynoldssd7@intand.com
END:VEVENT
END:VCALENDAR
